BEGIN:VCALENDAR
VERSION:2.0
PRODID:-//Earby Town Council//Meeting Calendar//EN
CALSCALE:GREGORIAN
METHOD:PUBLISH
BEGIN:VEVENT
UID:71782-20260414@earbytowncouncil.gov.uk
DTSTAMP:20260419T200505Z
DTSTART;VALUE=DATE:20260414
DTEND;VALUE=DATE:20260415
SUMMARY:Extraordinary Council Meeting &#8211\\; 14th April 2026
DESCRIPTION:Full Council Meeting\nView details: https://earbytowncouncil.gov.uk/meetings/next-council-meeting-27th-april-2026/
URL:https://earbytowncouncil.gov.uk/meetings/next-council-meeting-27th-april-2026/
END:VEVENT
END:VCALENDAR
