BEGIN:VCALENDAR
VERSION:2.0
PRODID:-//Earby Town Council//Meeting Calendar//EN
CALSCALE:GREGORIAN
METHOD:PUBLISH
BEGIN:VEVENT
UID:71168-20240429@earbytowncouncil.gov.uk
DTSTAMP:20260423T090021Z
DTSTART;VALUE=DATE:20240429
DTEND;VALUE=DATE:20240430
SUMMARY:Full Council Meeting &#8211\\; 29th April 2024
DESCRIPTION:Full Council Meeting\nView details: https://earbytowncouncil.gov.uk/meetings/provisional-date-29th-april-2024/
URL:https://earbytowncouncil.gov.uk/meetings/provisional-date-29th-april-2024/
END:VEVENT
END:VCALENDAR
