BEGIN:VCALENDAR
VERSION:2.0
PRODID:-//Earby Town Council//Meeting Calendar//EN
CALSCALE:GREGORIAN
METHOD:PUBLISH
BEGIN:VEVENT
UID:70978-20230925@earbytowncouncil.gov.uk
DTSTAMP:20260419T164232Z
DTSTART;VALUE=DATE:20230925
DTEND;VALUE=DATE:20230926
SUMMARY:Full Council Meeting &#8211\\; 25th September 2023
DESCRIPTION:Full Council Meeting\nView details: https://earbytowncouncil.gov.uk/meetings/25th-september-2023/
URL:https://earbytowncouncil.gov.uk/meetings/25th-september-2023/
END:VEVENT
END:VCALENDAR
