BEGIN:VCALENDAR
VERSION:2.0
PRODID:-//Earby Town Council//Meeting Calendar//EN
CALSCALE:GREGORIAN
METHOD:PUBLISH
BEGIN:VEVENT
UID:70381-20210823@earbytowncouncil.gov.uk
DTSTAMP:20260423T090208Z
DTSTART;VALUE=DATE:20210823
DTEND;VALUE=DATE:20210824
SUMMARY:Full Council Meeting &#8211\\; 23rd August 2021
DESCRIPTION:Full Council Meeting\nView details: https://earbytowncouncil.gov.uk/meetings/full-council-meeting-23rd-august-2021/
URL:https://earbytowncouncil.gov.uk/meetings/full-council-meeting-23rd-august-2021/
END:VEVENT
END:VCALENDAR
