BEGIN:VCALENDAR
VERSION:2.0
PRODID:-//Earby Town Council//Meeting Calendar//EN
CALSCALE:GREGORIAN
METHOD:PUBLISH
BEGIN:VEVENT
UID:70302-20181008@earbytowncouncil.gov.uk
DTSTAMP:20260420T050146Z
DTSTART;VALUE=DATE:20181008
DTEND;VALUE=DATE:20181009
SUMMARY:Full Council Meeting &#8211\\; 8th October 2018
DESCRIPTION:Full Council Meeting\nView details: https://earbytowncouncil.gov.uk/meetings/full-council-meeting-8th-october-2018/
URL:https://earbytowncouncil.gov.uk/meetings/full-council-meeting-8th-october-2018/
END:VEVENT
END:VCALENDAR
