BEGIN:VCALENDAR
VERSION:2.0
PRODID:-//Earby Town Council//Meeting Calendar//EN
CALSCALE:GREGORIAN
METHOD:PUBLISH
BEGIN:VEVENT
UID:70287-20180312@earbytowncouncil.gov.uk
DTSTAMP:20260420T013736Z
DTSTART;VALUE=DATE:20180312
DTEND;VALUE=DATE:20180313
SUMMARY:Full Council Meeting &#8211\\; Febuary 2018
DESCRIPTION:Full Council Meeting\nView details: https://earbytowncouncil.gov.uk/meetings/full-council-meeting-febuary-2018/
URL:https://earbytowncouncil.gov.uk/meetings/full-council-meeting-febuary-2018/
END:VEVENT
END:VCALENDAR
