BEGIN:VCALENDAR
VERSION:2.0
PRODID:-//Earby Town Council//Meeting Calendar//EN
CALSCALE:GREGORIAN
METHOD:PUBLISH
BEGIN:VEVENT
UID:70279-20170129@earbytowncouncil.gov.uk
DTSTAMP:20260419T220626Z
DTSTART;VALUE=DATE:20170129
DTEND;VALUE=DATE:20170130
SUMMARY:Full Council Meeting &#8211\\; 29th January 2018
DESCRIPTION:Full Council Meeting\nView details: https://earbytowncouncil.gov.uk/meetings/full-council-meeting-29th-january-2018/
URL:https://earbytowncouncil.gov.uk/meetings/full-council-meeting-29th-january-2018/
END:VEVENT
END:VCALENDAR
